BEGIN:VCALENDAR
VERSION:2.0
PRODID:-//VisitaFiavé - ECPv4.6.19//NONSGML v1.0//EN
CALSCALE:GREGORIAN
METHOD:PUBLISH
X-WR-CALNAME:VisitaFiavé
X-ORIGINAL-URL:https://www.visitafiave.it
X-WR-CALDESC:Events for VisitaFiavé
BEGIN:VEVENT
DTSTART;VALUE=DATE:20210626
DTEND;VALUE=DATE:20210901
DTSTAMP:20260419T123821
CREATED:20210702T151230Z
LAST-MODIFIED:20210702T151230Z
UID:1609-1624665600-1630454399@www.visitafiave.it
SUMMARY:Sguardi sull'Ambiente e sulla sua Tutela
DESCRIPTION:Mostra fotografica “Sguardi sull’Ambiente e sulla sua Tutela” a cura dei soci U.I.F. Trentino A.A. (ingresso gratuito all’area riservata alla mostra) \n
URL:https://www.visitafiave.it/evento/sguardi-sullambiente-e-sulla-sua-tutela/
LOCATION:Via 3 Novembre\, 53\,\, Fiavè TN\, 38075\, Italia
END:VEVENT
BEGIN:VEVENT
DTSTART;TZID=UTC+1:20210830T110000
DTEND;TZID=UTC+1:20210830T110000
DTSTAMP:20260419T123821
CREATED:20210814T164005Z
LAST-MODIFIED:20210814T164005Z
UID:2023-1630321200-1630321200@www.visitafiave.it
SUMMARY:Benvenuto al Museo
DESCRIPTION:  \nBreve introduzione alle collezioni del museo ( attività gratuita per tutti) \n  \n
URL:https://www.visitafiave.it/evento/benvenuto-al-museo-2-2-2-2-2-2-2-2-2-2-2-2-2-2-2-2-2-2-2-2-2-2-2-2-2-3/
LOCATION:Via 3 Novembre\, 53\,\, Fiavè TN\, 38075\, Italia
END:VEVENT
BEGIN:VEVENT
DTSTART;TZID=UTC+1:20210830T110000
DTEND;TZID=UTC+1:20210830T110000
DTSTAMP:20260419T123821
CREATED:20210814T164317Z
LAST-MODIFIED:20210814T164317Z
UID:2029-1630321200-1630321200@www.visitafiave.it
SUMMARY:Un Giorno in Palafitta
DESCRIPTION:  \nVisita partecipata al Parco Archeo Natura a pagamento (per tutti) \n  \n
URL:https://www.visitafiave.it/evento/un-giorno-in-palafitta-4-2-2-3-2-2-2-2-2-2-2-2-2-2-2-2-2-2-2-2-2-2-3/
LOCATION:SS421\, Fiavè\, TRENTO\, 38075\, Italia
END:VEVENT
BEGIN:VEVENT
DTSTART;TZID=UTC+1:20210830T143000
DTEND;TZID=UTC+1:20210830T143000
DTSTAMP:20260419T123821
CREATED:20210814T164047Z
LAST-MODIFIED:20210814T164047Z
UID:2025-1630333800-1630333800@www.visitafiave.it
SUMMARY:Al Museo con Roberto Reperto
DESCRIPTION:  \nLaboratorio didattico per famiglie (+4 anni) a pagamento \n  \n
URL:https://www.visitafiave.it/evento/al-museo-con-roberto-reperto-3-3-3-2-2-2-2/
LOCATION:Via 3 Novembre\, 53\,\, Fiavè TN\, 38075\, Italia
END:VEVENT
BEGIN:VEVENT
DTSTART;TZID=UTC+1:20210830T143000
DTEND;TZID=UTC+1:20210830T143000
DTSTAMP:20260419T123821
CREATED:20210816T084658Z
LAST-MODIFIED:20210816T084658Z
UID:2033-1630333800-1630333800@www.visitafiave.it
SUMMARY:Benvenuto al Parco
DESCRIPTION:  \nBreve introduzione al Parco Archeo Natura (attività gratuita per tutti) \n
URL:https://www.visitafiave.it/evento/benvenuto-al-parco-2-2-2-2-2-2-2-3-2-2-2-3-2-2/
LOCATION:SS421\, Fiavè\, TRENTO\, 38075\, Italia
END:VEVENT
BEGIN:VEVENT
DTSTART;TZID=UTC+1:20210830T160000
DTEND;TZID=UTC+1:20210830T160000
DTSTAMP:20260419T123821
CREATED:20210816T084746Z
LAST-MODIFIED:20210816T084746Z
UID:2035-1630339200-1630339200@www.visitafiave.it
SUMMARY:Pelle e Ossa
DESCRIPTION:  \nLaboratorio didattico per famiglie a pagamento (+6 anni) \n
URL:https://www.visitafiave.it/evento/pelle-e-ossa-2-2-2-2-2-2-2-2/
LOCATION:SS421\, Fiavè\, TRENTO\, 38075\, Italia
END:VEVENT
BEGIN:VEVENT
DTSTART;TZID=UTC+1:20210830T163000
DTEND;TZID=UTC+1:20210830T163000
DTSTAMP:20260419T123821
CREATED:20210814T164139Z
LAST-MODIFIED:20210814T164139Z
UID:2027-1630341000-1630341000@www.visitafiave.it
SUMMARY:Palafitticolo a Chi ?
DESCRIPTION:  \nVisita partecipata al museo a pagamento (per tutti) \n  \n
URL:https://www.visitafiave.it/evento/palafitticolo-a-chi-4-2-2-3-2-2-2-2-2-3-3/
LOCATION:Via 3 Novembre\, 53\,\, Fiavè TN\, 38075\, Italia
END:VEVENT
END:VCALENDAR